BEGIN:VCALENDAR
VERSION:2.0
PRODID:-//Action to Equity - ECPv6.15.20//NONSGML v1.0//EN
CALSCALE:GREGORIAN
METHOD:PUBLISH
X-WR-CALNAME:Action to Equity
X-ORIGINAL-URL:https://actiontoequity.org
X-WR-CALDESC:Events for Action to Equity
REFRESH-INTERVAL;VALUE=DURATION:PT1H
X-Robots-Tag:noindex
X-PUBLISHED-TTL:PT1H
BEGIN:VTIMEZONE
TZID:America/New_York
BEGIN:DAYLIGHT
TZOFFSETFROM:-0500
TZOFFSETTO:-0400
TZNAME:EDT
DTSTART:20240310T070000
END:DAYLIGHT
BEGIN:STANDARD
TZOFFSETFROM:-0400
TZOFFSETTO:-0500
TZNAME:EST
DTSTART:20241103T060000
END:STANDARD
BEGIN:DAYLIGHT
TZOFFSETFROM:-0500
TZOFFSETTO:-0400
TZNAME:EDT
DTSTART:20250309T070000
END:DAYLIGHT
BEGIN:STANDARD
TZOFFSETFROM:-0400
TZOFFSETTO:-0500
TZNAME:EST
DTSTART:20251102T060000
END:STANDARD
BEGIN:DAYLIGHT
TZOFFSETFROM:-0500
TZOFFSETTO:-0400
TZNAME:EDT
DTSTART:20260308T070000
END:DAYLIGHT
BEGIN:STANDARD
TZOFFSETFROM:-0400
TZOFFSETTO:-0500
TZNAME:EST
DTSTART:20261101T060000
END:STANDARD
BEGIN:DAYLIGHT
TZOFFSETFROM:-0500
TZOFFSETTO:-0400
TZNAME:EDT
DTSTART:20270314T070000
END:DAYLIGHT
BEGIN:STANDARD
TZOFFSETFROM:-0400
TZOFFSETTO:-0500
TZNAME:EST
DTSTART:20271107T060000
END:STANDARD
END:VTIMEZONE
BEGIN:VEVENT
DTSTART;TZID=America/New_York:20260307T130000
DTEND;TZID=America/New_York:20260307T150000
DTSTAMP:20260419T201110
CREATED:20260328T084216Z
LAST-MODIFIED:20260328T084216Z
UID:10000002-1772888400-1772895600@actiontoequity.org
SUMMARY:Study on Southeast Asian Population on Kidney Disease
DESCRIPTION:Please come out and join us and participate in this study in collaboration with the Mayo clinic!
URL:https://actiontoequity.org/event/study-on-southeast-asian-population-on-kidney-disease/
END:VEVENT
BEGIN:VEVENT
DTSTART;TZID=America/New_York:20250325T080000
DTEND;TZID=America/New_York:20250325T170000
DTSTAMP:20260419T201110
CREATED:20250317T081250Z
LAST-MODIFIED:20250317T081250Z
UID:10000001-1742889600-1742922000@actiontoequity.org
SUMMARY:Etiam Sollicitudin Malesuada
DESCRIPTION:Praesent lectus metus\, ultricies id efficitur vitae\, sodales ac dui. Aliquam dignissim\, tortor sed sodales condimentum\, diam risus malesuada ante\, eget varius nulla erat vitae purus. Vivamus non vestibulum dolor\, sed fringilla mauris. Etiam commodo est sed odio gravida\, et molestie odio sagittis.
URL:https://actiontoequity.org/event/etiam-sollicitudin-malesuada/
END:VEVENT
END:VCALENDAR